BEGIN:VCALENDAR
VERSION:2.0
PRODID:-//Fahrschule Neumann - ECPv6.15.20//NONSGML v1.0//EN
CALSCALE:GREGORIAN
METHOD:PUBLISH
X-WR-CALNAME:Fahrschule Neumann
X-ORIGINAL-URL:https://fs-neumann.com
X-WR-CALDESC:Veranstaltungen für Fahrschule Neumann
REFRESH-INTERVAL;VALUE=DURATION:PT1H
X-Robots-Tag:noindex
X-PUBLISHED-TTL:PT1H
BEGIN:VTIMEZONE
TZID:Europe/Berlin
BEGIN:DAYLIGHT
TZOFFSETFROM:+0100
TZOFFSETTO:+0200
TZNAME:CEST
DTSTART:20250330T010000
END:DAYLIGHT
BEGIN:STANDARD
TZOFFSETFROM:+0200
TZOFFSETTO:+0100
TZNAME:CET
DTSTART:20251026T010000
END:STANDARD
BEGIN:DAYLIGHT
TZOFFSETFROM:+0100
TZOFFSETTO:+0200
TZNAME:CEST
DTSTART:20260329T010000
END:DAYLIGHT
BEGIN:STANDARD
TZOFFSETFROM:+0200
TZOFFSETTO:+0100
TZNAME:CET
DTSTART:20261025T010000
END:STANDARD
BEGIN:DAYLIGHT
TZOFFSETFROM:+0100
TZOFFSETTO:+0200
TZNAME:CEST
DTSTART:20270328T010000
END:DAYLIGHT
BEGIN:STANDARD
TZOFFSETFROM:+0200
TZOFFSETTO:+0100
TZNAME:CET
DTSTART:20271031T010000
END:STANDARD
END:VTIMEZONE
BEGIN:VEVENT
DTSTART;VALUE=DATE:20260420
DTEND;VALUE=DATE:20260428
DTSTAMP:20260422T114622
CREATED:20251204T121414Z
LAST-MODIFIED:20251204T121414Z
UID:2135-1776643200-1777334399@fs-neumann.com
SUMMARY:Blockunterricht April 2026
DESCRIPTION:Bitte beachte\, dass sonntags kein Unterricht stattfindet. \nUnterrichtszeiten:Unter der Woche: Mo–Fr 18:00–21:15Am Samstag: 09:00–12:15In den Ferien: 09:00–12:15 \nIn diesem Blockunterricht kannst du die komplette Theorie kompakt und ohne Stress absolvieren. An sieben Unterrichtstagen lernst du alle erforderlichen Lektionen\, entweder abends unter der Woche oder vormittags in den Ferien. Verpasste Stunden kannst du im nächsten Block problemlos nachholen. So bleibst du flexibel und kommst schneller zur Prüfung.
URL:https://fs-neumann.com/kalender/blockunterricht-april-2026/
END:VEVENT
BEGIN:VEVENT
DTSTART;TZID=Europe/Berlin:20260422T180000
DTEND;TZID=Europe/Berlin:20260422T211500
DTSTAMP:20260422T114622
CREATED:20251201T103350Z
LAST-MODIFIED:20251201T103350Z
UID:2013-1776880800-1776892500@fs-neumann.com
SUMMARY:Lektion 5+6
DESCRIPTION:
URL:https://fs-neumann.com/kalender/lektion-56-4/
END:VEVENT
END:VCALENDAR