BEGIN:VCALENDAR
VERSION:2.0
PRODID:-//Fahrschule Neumann - ECPv6.15.20//NONSGML v1.0//EN
CALSCALE:GREGORIAN
METHOD:PUBLISH
X-ORIGINAL-URL:https://fs-neumann.com
X-WR-CALDESC:Veranstaltungen für Fahrschule Neumann
REFRESH-INTERVAL;VALUE=DURATION:PT1H
X-Robots-Tag:noindex
X-PUBLISHED-TTL:PT1H
BEGIN:VTIMEZONE
TZID:Europe/Berlin
BEGIN:DAYLIGHT
TZOFFSETFROM:+0100
TZOFFSETTO:+0200
TZNAME:CEST
DTSTART:20250330T010000
END:DAYLIGHT
BEGIN:STANDARD
TZOFFSETFROM:+0200
TZOFFSETTO:+0100
TZNAME:CET
DTSTART:20251026T010000
END:STANDARD
BEGIN:DAYLIGHT
TZOFFSETFROM:+0100
TZOFFSETTO:+0200
TZNAME:CEST
DTSTART:20260329T010000
END:DAYLIGHT
BEGIN:STANDARD
TZOFFSETFROM:+0200
TZOFFSETTO:+0100
TZNAME:CET
DTSTART:20261025T010000
END:STANDARD
BEGIN:DAYLIGHT
TZOFFSETFROM:+0100
TZOFFSETTO:+0200
TZNAME:CEST
DTSTART:20270328T010000
END:DAYLIGHT
BEGIN:STANDARD
TZOFFSETFROM:+0200
TZOFFSETTO:+0100
TZNAME:CET
DTSTART:20271031T010000
END:STANDARD
END:VTIMEZONE
BEGIN:VEVENT
DTSTART;VALUE=DATE:20260801
DTEND;VALUE=DATE:20260809
DTSTAMP:20260419T154610
CREATED:20251126T122713Z
LAST-MODIFIED:20251204T121817Z
UID:1884-1785542400-1786233599@fs-neumann.com
SUMMARY:Blockunterricht August 2026 (Ferienkurs)
DESCRIPTION:Bitte beachte\, dass sonntags kein Unterricht stattfindet. \nUnterrichtszeiten:Unter der Woche: Mo–Fr 18:00–21:15Am Samstag: 09:00–12:15In den Ferien: 09:00–12:15 \nIn diesem Blockunterricht kannst du die komplette Theorie kompakt und ohne Stress absolvieren. An sieben Unterrichtstagen lernst du alle erforderlichen Lektionen\, entweder abends unter der Woche oder vormittags in den Ferien. Verpasste Stunden kannst du im nächsten Block problemlos nachholen. So bleibst du flexibel und kommst schneller zur Prüfung.
URL:https://fs-neumann.com/kalender/blockunterricht-august-2026/
END:VEVENT
BEGIN:VEVENT
DTSTART;TZID=Europe/Berlin:20260801T090000
DTEND;TZID=Europe/Berlin:20260801T121500
DTSTAMP:20260419T154610
CREATED:20251201T105119Z
LAST-MODIFIED:20251201T105119Z
UID:2054-1785574800-1785586500@fs-neumann.com
SUMMARY:Lektion 1+2
DESCRIPTION:
URL:https://fs-neumann.com/kalender/lektion-12-7/
END:VEVENT
BEGIN:VEVENT
DTSTART;TZID=Europe/Berlin:20260803T090000
DTEND;TZID=Europe/Berlin:20260803T121500
DTSTAMP:20260419T154610
CREATED:20251201T105206Z
LAST-MODIFIED:20251201T105206Z
UID:2056-1785747600-1785759300@fs-neumann.com
SUMMARY:Lektion 3+4
DESCRIPTION:
URL:https://fs-neumann.com/kalender/lektion-34-7/
END:VEVENT
BEGIN:VEVENT
DTSTART;TZID=Europe/Berlin:20260804T090000
DTEND;TZID=Europe/Berlin:20260804T121500
DTSTAMP:20260419T154610
CREATED:20251201T105245Z
LAST-MODIFIED:20251201T105245Z
UID:2058-1785834000-1785845700@fs-neumann.com
SUMMARY:Lektion 5+6
DESCRIPTION:
URL:https://fs-neumann.com/kalender/lektion-56-6/
END:VEVENT
BEGIN:VEVENT
DTSTART;TZID=Europe/Berlin:20260805T090000
DTEND;TZID=Europe/Berlin:20260805T121500
DTSTAMP:20260419T154610
CREATED:20251201T105326Z
LAST-MODIFIED:20251201T105326Z
UID:2060-1785920400-1785932100@fs-neumann.com
SUMMARY:Lektion 7+8
DESCRIPTION:
URL:https://fs-neumann.com/kalender/lektion-78-7/
END:VEVENT
BEGIN:VEVENT
DTSTART;TZID=Europe/Berlin:20260806T090000
DTEND;TZID=Europe/Berlin:20260806T121500
DTSTAMP:20260419T154610
CREATED:20251201T105413Z
LAST-MODIFIED:20251201T105413Z
UID:2062-1786006800-1786018500@fs-neumann.com
SUMMARY:Lektion 9+10
DESCRIPTION:
URL:https://fs-neumann.com/kalender/lektion-910-7/
END:VEVENT
BEGIN:VEVENT
DTSTART;TZID=Europe/Berlin:20260807T090000
DTEND;TZID=Europe/Berlin:20260807T121500
DTSTAMP:20260419T154610
CREATED:20251201T105520Z
LAST-MODIFIED:20251201T105520Z
UID:2064-1786093200-1786104900@fs-neumann.com
SUMMARY:Lektion 11+12
DESCRIPTION:
URL:https://fs-neumann.com/kalender/lektion-1112-8/
END:VEVENT
BEGIN:VEVENT
DTSTART;TZID=Europe/Berlin:20260808T090000
DTEND;TZID=Europe/Berlin:20260808T121500
DTSTAMP:20260419T154610
CREATED:20251201T105556Z
LAST-MODIFIED:20251201T105556Z
UID:2066-1786179600-1786191300@fs-neumann.com
SUMMARY:Zusatzstoff 1+2
DESCRIPTION:
URL:https://fs-neumann.com/kalender/zusatzstoff-12-7/
END:VEVENT
BEGIN:VEVENT
DTSTART;VALUE=DATE:20260905
DTEND;VALUE=DATE:20260913
DTSTAMP:20260419T154610
CREATED:20251126T122809Z
LAST-MODIFIED:20251201T112549Z
UID:1886-1788566400-1789257599@fs-neumann.com
SUMMARY:Blockunterricht September 2026 (Ferienkurs)
DESCRIPTION:Bitte beachte\, dass sonntags kein Unterricht stattfindet. \nUnterrichtszeiten:Unter der Woche: Mo–Fr 18:00–21:15Am Samstag: 09:00–12:15In den Ferien: 09:00–12:15 \nIn diesem Blockunterricht kannst du die komplette Theorie kompakt und ohne Stress absolvieren. An sieben Unterrichtstagen lernst du alle erforderlichen Lektionen\, entweder abends unter der Woche oder vormittags in den Ferien. Verpasste Stunden kannst du im nächsten Block problemlos nachholen. So bleibst du flexibel und kommst schneller zur Prüfung.
URL:https://fs-neumann.com/kalender/blockunterricht-september-2026/
END:VEVENT
BEGIN:VEVENT
DTSTART;TZID=Europe/Berlin:20260905T090000
DTEND;TZID=Europe/Berlin:20260905T121500
DTSTAMP:20260419T154610
CREATED:20251201T105805Z
LAST-MODIFIED:20251201T105805Z
UID:2068-1788598800-1788610500@fs-neumann.com
SUMMARY:Lektion 1+2
DESCRIPTION:
URL:https://fs-neumann.com/kalender/lektion-12-8/
END:VEVENT
BEGIN:VEVENT
DTSTART;TZID=Europe/Berlin:20260907T090000
DTEND;TZID=Europe/Berlin:20260907T121500
DTSTAMP:20260419T154610
CREATED:20251201T105846Z
LAST-MODIFIED:20251201T105846Z
UID:2070-1788771600-1788783300@fs-neumann.com
SUMMARY:Lektion 3+4
DESCRIPTION:
URL:https://fs-neumann.com/kalender/lektion-34-8/
END:VEVENT
BEGIN:VEVENT
DTSTART;TZID=Europe/Berlin:20260908T090000
DTEND;TZID=Europe/Berlin:20260908T121500
DTSTAMP:20260419T154610
CREATED:20251201T105925Z
LAST-MODIFIED:20251201T105925Z
UID:2072-1788858000-1788869700@fs-neumann.com
SUMMARY:Lektion 5+6
DESCRIPTION:
URL:https://fs-neumann.com/kalender/lektion-56-7/
END:VEVENT
BEGIN:VEVENT
DTSTART;TZID=Europe/Berlin:20260909T090000
DTEND;TZID=Europe/Berlin:20260909T121500
DTSTAMP:20260419T154610
CREATED:20251201T110007Z
LAST-MODIFIED:20251201T110007Z
UID:2074-1788944400-1788956100@fs-neumann.com
SUMMARY:Lektion 7+8
DESCRIPTION:
URL:https://fs-neumann.com/kalender/lektion-78-8/
END:VEVENT
BEGIN:VEVENT
DTSTART;TZID=Europe/Berlin:20260910T090000
DTEND;TZID=Europe/Berlin:20260910T121500
DTSTAMP:20260419T154610
CREATED:20251201T110043Z
LAST-MODIFIED:20251201T110043Z
UID:2076-1789030800-1789042500@fs-neumann.com
SUMMARY:Lektion 9+10
DESCRIPTION:
URL:https://fs-neumann.com/kalender/lektion-910-8/
END:VEVENT
BEGIN:VEVENT
DTSTART;TZID=Europe/Berlin:20260911T090000
DTEND;TZID=Europe/Berlin:20260911T121500
DTSTAMP:20260419T154610
CREATED:20251201T110114Z
LAST-MODIFIED:20251201T110114Z
UID:2078-1789117200-1789128900@fs-neumann.com
SUMMARY:Lektion 11+12
DESCRIPTION:
URL:https://fs-neumann.com/kalender/lektion-1112-9/
END:VEVENT
BEGIN:VEVENT
DTSTART;TZID=Europe/Berlin:20260912T090000
DTEND;TZID=Europe/Berlin:20260912T121500
DTSTAMP:20260419T154610
CREATED:20251201T110147Z
LAST-MODIFIED:20251201T110147Z
UID:2080-1789203600-1789215300@fs-neumann.com
SUMMARY:Zusatzstoff 1+2
DESCRIPTION:
URL:https://fs-neumann.com/kalender/zusatzstoff-12-8/
END:VEVENT
BEGIN:VEVENT
DTSTART;VALUE=DATE:20261005
DTEND;VALUE=DATE:20261013
DTSTAMP:20260419T154610
CREATED:20251126T122859Z
LAST-MODIFIED:20251201T112435Z
UID:1888-1791158400-1791849599@fs-neumann.com
SUMMARY:Blockunterricht Oktober 2026
DESCRIPTION:Bitte beachte\, dass sonntags kein Unterricht stattfindet. \nUnterrichtszeiten:Unter der Woche: Mo–Fr 18:00–21:15Am Samstag: 09:00–12:15In den Ferien: 09:00–12:15 \nIn diesem Blockunterricht kannst du die komplette Theorie kompakt und ohne Stress absolvieren. An sieben Unterrichtstagen lernst du alle erforderlichen Lektionen\, entweder abends unter der Woche oder vormittags in den Ferien. Verpasste Stunden kannst du im nächsten Block problemlos nachholen. So bleibst du flexibel und kommst schneller zur Prüfung.
URL:https://fs-neumann.com/kalender/blockunterricht-oktober-2026/
END:VEVENT
BEGIN:VEVENT
DTSTART;TZID=Europe/Berlin:20261005T180000
DTEND;TZID=Europe/Berlin:20261005T211500
DTSTAMP:20260419T154610
CREATED:20251201T110305Z
LAST-MODIFIED:20251201T110305Z
UID:2082-1791223200-1791234900@fs-neumann.com
SUMMARY:Lektion 1+2
DESCRIPTION:
URL:https://fs-neumann.com/kalender/lektion-12-9/
END:VEVENT
BEGIN:VEVENT
DTSTART;TZID=Europe/Berlin:20261006T180000
DTEND;TZID=Europe/Berlin:20261006T211500
DTSTAMP:20260419T154610
CREATED:20251201T110333Z
LAST-MODIFIED:20251201T110333Z
UID:2084-1791309600-1791321300@fs-neumann.com
SUMMARY:Lektion 3+4
DESCRIPTION:
URL:https://fs-neumann.com/kalender/lektion-34-9/
END:VEVENT
BEGIN:VEVENT
DTSTART;TZID=Europe/Berlin:20261007T180000
DTEND;TZID=Europe/Berlin:20261007T211500
DTSTAMP:20260419T154610
CREATED:20251201T110401Z
LAST-MODIFIED:20251201T110401Z
UID:2086-1791396000-1791407700@fs-neumann.com
SUMMARY:Lektion 5+6
DESCRIPTION:
URL:https://fs-neumann.com/kalender/lektion-56-8/
END:VEVENT
BEGIN:VEVENT
DTSTART;TZID=Europe/Berlin:20261008T180000
DTEND;TZID=Europe/Berlin:20261008T211500
DTSTAMP:20260419T154610
CREATED:20251201T110446Z
LAST-MODIFIED:20251201T110446Z
UID:2088-1791482400-1791494100@fs-neumann.com
SUMMARY:Lektion 7+8
DESCRIPTION:
URL:https://fs-neumann.com/kalender/lektion-78-9/
END:VEVENT
BEGIN:VEVENT
DTSTART;TZID=Europe/Berlin:20261009T180000
DTEND;TZID=Europe/Berlin:20261009T211500
DTSTAMP:20260419T154610
CREATED:20251201T110531Z
LAST-MODIFIED:20251201T110531Z
UID:2090-1791568800-1791580500@fs-neumann.com
SUMMARY:Lektion 9+10
DESCRIPTION:
URL:https://fs-neumann.com/kalender/lektion-910-9/
END:VEVENT
BEGIN:VEVENT
DTSTART;TZID=Europe/Berlin:20261010T090000
DTEND;TZID=Europe/Berlin:20261010T121500
DTSTAMP:20260419T154610
CREATED:20251201T110625Z
LAST-MODIFIED:20251201T110625Z
UID:2092-1791622800-1791634500@fs-neumann.com
SUMMARY:Lektion 11+12
DESCRIPTION:
URL:https://fs-neumann.com/kalender/lektion-1112-10/
END:VEVENT
BEGIN:VEVENT
DTSTART;TZID=Europe/Berlin:20261012T180000
DTEND;TZID=Europe/Berlin:20261012T211500
DTSTAMP:20260419T154610
CREATED:20251201T110653Z
LAST-MODIFIED:20251201T110653Z
UID:2094-1791828000-1791839700@fs-neumann.com
SUMMARY:Zusatzstoff 1+2
DESCRIPTION:
URL:https://fs-neumann.com/kalender/zusatzstoff-12-9/
END:VEVENT
BEGIN:VEVENT
DTSTART;VALUE=DATE:20261031
DTEND;VALUE=DATE:20261108
DTSTAMP:20260419T154610
CREATED:20251126T123024Z
LAST-MODIFIED:20251201T112356Z
UID:1890-1793404800-1794095999@fs-neumann.com
SUMMARY:Blockunterricht November 2026 (Ferienkurs)
DESCRIPTION:Bitte beachte\, dass sonntags kein Unterricht stattfindet. \nUnterrichtszeiten:Unter der Woche: Mo–Fr 18:00–21:15Am Samstag: 09:00–12:15In den Ferien: 09:00–12:15 \nIn diesem Blockunterricht kannst du die komplette Theorie kompakt und ohne Stress absolvieren. An sieben Unterrichtstagen lernst du alle erforderlichen Lektionen\, entweder abends unter der Woche oder vormittags in den Ferien. Verpasste Stunden kannst du im nächsten Block problemlos nachholen. So bleibst du flexibel und kommst schneller zur Prüfung.
URL:https://fs-neumann.com/kalender/blockunterricht-november-2026/
END:VEVENT
BEGIN:VEVENT
DTSTART;TZID=Europe/Berlin:20261031T090000
DTEND;TZID=Europe/Berlin:20261031T121500
DTSTAMP:20260419T154610
CREATED:20251201T110811Z
LAST-MODIFIED:20251201T110811Z
UID:2096-1793437200-1793448900@fs-neumann.com
SUMMARY:Lektion 1+2
DESCRIPTION:
URL:https://fs-neumann.com/kalender/lektion-12-10/
END:VEVENT
BEGIN:VEVENT
DTSTART;TZID=Europe/Berlin:20261102T090000
DTEND;TZID=Europe/Berlin:20261102T121500
DTSTAMP:20260419T154610
CREATED:20251201T110845Z
LAST-MODIFIED:20251201T110845Z
UID:2098-1793610000-1793621700@fs-neumann.com
SUMMARY:Lektion 3+4
DESCRIPTION:
URL:https://fs-neumann.com/kalender/lektion-34-10/
END:VEVENT
BEGIN:VEVENT
DTSTART;TZID=Europe/Berlin:20261103T090000
DTEND;TZID=Europe/Berlin:20261103T121500
DTSTAMP:20260419T154610
CREATED:20251201T111016Z
LAST-MODIFIED:20251201T111016Z
UID:2100-1793696400-1793708100@fs-neumann.com
SUMMARY:Lektion 5+6
DESCRIPTION:
URL:https://fs-neumann.com/kalender/lektion-56-9/
END:VEVENT
BEGIN:VEVENT
DTSTART;TZID=Europe/Berlin:20261104T090000
DTEND;TZID=Europe/Berlin:20261104T121500
DTSTAMP:20260419T154610
CREATED:20251201T111044Z
LAST-MODIFIED:20251201T111044Z
UID:2102-1793782800-1793794500@fs-neumann.com
SUMMARY:Lektion 7+8
DESCRIPTION:
URL:https://fs-neumann.com/kalender/lektion-78-10/
END:VEVENT
BEGIN:VEVENT
DTSTART;TZID=Europe/Berlin:20261105T090000
DTEND;TZID=Europe/Berlin:20261105T121500
DTSTAMP:20260419T154610
CREATED:20251201T111127Z
LAST-MODIFIED:20251201T111127Z
UID:2104-1793869200-1793880900@fs-neumann.com
SUMMARY:Lektion 9+10
DESCRIPTION:
URL:https://fs-neumann.com/kalender/lektion-910-10/
END:VEVENT
END:VCALENDAR