BEGIN:VCALENDAR
VERSION:2.0
PRODID:-//Fahrschule Neumann - ECPv6.15.20//NONSGML v1.0//EN
CALSCALE:GREGORIAN
METHOD:PUBLISH
X-ORIGINAL-URL:https://fs-neumann.com
X-WR-CALDESC:Veranstaltungen für Fahrschule Neumann
REFRESH-INTERVAL;VALUE=DURATION:PT1H
X-Robots-Tag:noindex
X-PUBLISHED-TTL:PT1H
BEGIN:VTIMEZONE
TZID:Europe/Berlin
BEGIN:DAYLIGHT
TZOFFSETFROM:+0100
TZOFFSETTO:+0200
TZNAME:CEST
DTSTART:20250330T010000
END:DAYLIGHT
BEGIN:STANDARD
TZOFFSETFROM:+0200
TZOFFSETTO:+0100
TZNAME:CET
DTSTART:20251026T010000
END:STANDARD
BEGIN:DAYLIGHT
TZOFFSETFROM:+0100
TZOFFSETTO:+0200
TZNAME:CEST
DTSTART:20260329T010000
END:DAYLIGHT
BEGIN:STANDARD
TZOFFSETFROM:+0200
TZOFFSETTO:+0100
TZNAME:CET
DTSTART:20261025T010000
END:STANDARD
BEGIN:DAYLIGHT
TZOFFSETFROM:+0100
TZOFFSETTO:+0200
TZNAME:CEST
DTSTART:20270328T010000
END:DAYLIGHT
BEGIN:STANDARD
TZOFFSETFROM:+0200
TZOFFSETTO:+0100
TZNAME:CET
DTSTART:20271031T010000
END:STANDARD
END:VTIMEZONE
BEGIN:VEVENT
DTSTART;VALUE=DATE:20260905
DTEND;VALUE=DATE:20260913
DTSTAMP:20260420T105958
CREATED:20251126T122809Z
LAST-MODIFIED:20251201T112549Z
UID:1886-1788566400-1789257599@fs-neumann.com
SUMMARY:Blockunterricht September 2026 (Ferienkurs)
DESCRIPTION:Bitte beachte\, dass sonntags kein Unterricht stattfindet. \nUnterrichtszeiten:Unter der Woche: Mo–Fr 18:00–21:15Am Samstag: 09:00–12:15In den Ferien: 09:00–12:15 \nIn diesem Blockunterricht kannst du die komplette Theorie kompakt und ohne Stress absolvieren. An sieben Unterrichtstagen lernst du alle erforderlichen Lektionen\, entweder abends unter der Woche oder vormittags in den Ferien. Verpasste Stunden kannst du im nächsten Block problemlos nachholen. So bleibst du flexibel und kommst schneller zur Prüfung.
URL:https://fs-neumann.com/kalender/blockunterricht-september-2026/
END:VEVENT
BEGIN:VEVENT
DTSTART;TZID=Europe/Berlin:20260905T090000
DTEND;TZID=Europe/Berlin:20260905T121500
DTSTAMP:20260420T105958
CREATED:20251201T105805Z
LAST-MODIFIED:20251201T105805Z
UID:2068-1788598800-1788610500@fs-neumann.com
SUMMARY:Lektion 1+2
DESCRIPTION:
URL:https://fs-neumann.com/kalender/lektion-12-8/
END:VEVENT
BEGIN:VEVENT
DTSTART;TZID=Europe/Berlin:20260907T090000
DTEND;TZID=Europe/Berlin:20260907T121500
DTSTAMP:20260420T105958
CREATED:20251201T105846Z
LAST-MODIFIED:20251201T105846Z
UID:2070-1788771600-1788783300@fs-neumann.com
SUMMARY:Lektion 3+4
DESCRIPTION:
URL:https://fs-neumann.com/kalender/lektion-34-8/
END:VEVENT
BEGIN:VEVENT
DTSTART;TZID=Europe/Berlin:20260908T090000
DTEND;TZID=Europe/Berlin:20260908T121500
DTSTAMP:20260420T105958
CREATED:20251201T105925Z
LAST-MODIFIED:20251201T105925Z
UID:2072-1788858000-1788869700@fs-neumann.com
SUMMARY:Lektion 5+6
DESCRIPTION:
URL:https://fs-neumann.com/kalender/lektion-56-7/
END:VEVENT
BEGIN:VEVENT
DTSTART;TZID=Europe/Berlin:20260909T090000
DTEND;TZID=Europe/Berlin:20260909T121500
DTSTAMP:20260420T105958
CREATED:20251201T110007Z
LAST-MODIFIED:20251201T110007Z
UID:2074-1788944400-1788956100@fs-neumann.com
SUMMARY:Lektion 7+8
DESCRIPTION:
URL:https://fs-neumann.com/kalender/lektion-78-8/
END:VEVENT
BEGIN:VEVENT
DTSTART;TZID=Europe/Berlin:20260910T090000
DTEND;TZID=Europe/Berlin:20260910T121500
DTSTAMP:20260420T105958
CREATED:20251201T110043Z
LAST-MODIFIED:20251201T110043Z
UID:2076-1789030800-1789042500@fs-neumann.com
SUMMARY:Lektion 9+10
DESCRIPTION:
URL:https://fs-neumann.com/kalender/lektion-910-8/
END:VEVENT
BEGIN:VEVENT
DTSTART;TZID=Europe/Berlin:20260911T090000
DTEND;TZID=Europe/Berlin:20260911T121500
DTSTAMP:20260420T105958
CREATED:20251201T110114Z
LAST-MODIFIED:20251201T110114Z
UID:2078-1789117200-1789128900@fs-neumann.com
SUMMARY:Lektion 11+12
DESCRIPTION:
URL:https://fs-neumann.com/kalender/lektion-1112-9/
END:VEVENT
BEGIN:VEVENT
DTSTART;TZID=Europe/Berlin:20260912T090000
DTEND;TZID=Europe/Berlin:20260912T121500
DTSTAMP:20260420T105958
CREATED:20251201T110147Z
LAST-MODIFIED:20251201T110147Z
UID:2080-1789203600-1789215300@fs-neumann.com
SUMMARY:Zusatzstoff 1+2
DESCRIPTION:
URL:https://fs-neumann.com/kalender/zusatzstoff-12-8/
END:VEVENT
END:VCALENDAR