BEGIN:VCALENDAR
VERSION:2.0
PRODID:-//Fahrschule Neumann - ECPv6.15.20//NONSGML v1.0//EN
CALSCALE:GREGORIAN
METHOD:PUBLISH
X-WR-CALNAME:Fahrschule Neumann
X-ORIGINAL-URL:https://fs-neumann.com
X-WR-CALDESC:Veranstaltungen für Fahrschule Neumann
REFRESH-INTERVAL;VALUE=DURATION:PT1H
X-Robots-Tag:noindex
X-PUBLISHED-TTL:PT1H
BEGIN:VTIMEZONE
TZID:Europe/Berlin
BEGIN:DAYLIGHT
TZOFFSETFROM:+0100
TZOFFSETTO:+0200
TZNAME:CEST
DTSTART:20250330T010000
END:DAYLIGHT
BEGIN:STANDARD
TZOFFSETFROM:+0200
TZOFFSETTO:+0100
TZNAME:CET
DTSTART:20251026T010000
END:STANDARD
BEGIN:DAYLIGHT
TZOFFSETFROM:+0100
TZOFFSETTO:+0200
TZNAME:CEST
DTSTART:20260329T010000
END:DAYLIGHT
BEGIN:STANDARD
TZOFFSETFROM:+0200
TZOFFSETTO:+0100
TZNAME:CET
DTSTART:20261025T010000
END:STANDARD
BEGIN:DAYLIGHT
TZOFFSETFROM:+0100
TZOFFSETTO:+0200
TZNAME:CEST
DTSTART:20270328T010000
END:DAYLIGHT
BEGIN:STANDARD
TZOFFSETFROM:+0200
TZOFFSETTO:+0100
TZNAME:CET
DTSTART:20271031T010000
END:STANDARD
END:VTIMEZONE
BEGIN:VEVENT
DTSTART;VALUE=DATE:20261130
DTEND;VALUE=DATE:20261208
DTSTAMP:20260420T143658
CREATED:20251126T123112Z
LAST-MODIFIED:20251201T112225Z
UID:1892-1795996800-1796687999@fs-neumann.com
SUMMARY:Blockunterricht Dezember 2026
DESCRIPTION:Bitte beachte\, dass sonntags kein Unterricht stattfindet. \nUnterrichtszeiten:Unter der Woche: Mo–Fr 18:00–21:15Am Samstag: 09:00–12:15In den Ferien: 09:00–12:15 \nIn diesem Blockunterricht kannst du die komplette Theorie kompakt und ohne Stress absolvieren. An sieben Unterrichtstagen lernst du alle erforderlichen Lektionen\, entweder abends unter der Woche oder vormittags in den Ferien. Verpasste Stunden kannst du im nächsten Block problemlos nachholen. So bleibst du flexibel und kommst schneller zur Prüfung.
URL:https://fs-neumann.com/kalender/blockunterricht-dezember-2026/
END:VEVENT
BEGIN:VEVENT
DTSTART;TZID=Europe/Berlin:20261201T180000
DTEND;TZID=Europe/Berlin:20261201T211500
DTSTAMP:20260420T143658
CREATED:20251201T111459Z
LAST-MODIFIED:20251201T111459Z
UID:2112-1796148000-1796159700@fs-neumann.com
SUMMARY:Lektion 3+4
DESCRIPTION:
URL:https://fs-neumann.com/kalender/lektion-34-11/
END:VEVENT
BEGIN:VEVENT
DTSTART;TZID=Europe/Berlin:20261202T180000
DTEND;TZID=Europe/Berlin:20261202T211500
DTSTAMP:20260420T143658
CREATED:20251201T111533Z
LAST-MODIFIED:20251201T111533Z
UID:2114-1796234400-1796246100@fs-neumann.com
SUMMARY:Lektion 5+6
DESCRIPTION:
URL:https://fs-neumann.com/kalender/lektion-56-10/
END:VEVENT
BEGIN:VEVENT
DTSTART;TZID=Europe/Berlin:20261203T180000
DTEND;TZID=Europe/Berlin:20261203T211500
DTSTAMP:20260420T143658
CREATED:20251201T111604Z
LAST-MODIFIED:20251201T111604Z
UID:2116-1796320800-1796332500@fs-neumann.com
SUMMARY:Lektion 7+8
DESCRIPTION:
URL:https://fs-neumann.com/kalender/lektion-78-11/
END:VEVENT
BEGIN:VEVENT
DTSTART;TZID=Europe/Berlin:20261204T180000
DTEND;TZID=Europe/Berlin:20261204T211500
DTSTAMP:20260420T143658
CREATED:20251201T111644Z
LAST-MODIFIED:20251201T111644Z
UID:2118-1796407200-1796418900@fs-neumann.com
SUMMARY:Lektion 9+10
DESCRIPTION:
URL:https://fs-neumann.com/kalender/lektion-910-11/
END:VEVENT
BEGIN:VEVENT
DTSTART;TZID=Europe/Berlin:20261205T090000
DTEND;TZID=Europe/Berlin:20261205T121500
DTSTAMP:20260420T143658
CREATED:20251201T111727Z
LAST-MODIFIED:20251201T111727Z
UID:2120-1796461200-1796472900@fs-neumann.com
SUMMARY:Lektion 11+12
DESCRIPTION:
URL:https://fs-neumann.com/kalender/lektion-1112-12/
END:VEVENT
BEGIN:VEVENT
DTSTART;TZID=Europe/Berlin:20261207T180000
DTEND;TZID=Europe/Berlin:20261207T211500
DTSTAMP:20260420T143658
CREATED:20251201T111810Z
LAST-MODIFIED:20251201T111810Z
UID:2122-1796666400-1796678100@fs-neumann.com
SUMMARY:Zusatzstoff 1+2
DESCRIPTION:
URL:https://fs-neumann.com/kalender/zusatzstoff-12-11/
END:VEVENT
END:VCALENDAR